BEGIN:VCALENDAR
VERSION:2.0
PRODID:-//NewsCorp Benefits - ECPv6.14.0//NONSGML v1.0//EN
CALSCALE:GREGORIAN
METHOD:PUBLISH
X-WR-CALNAME:NewsCorp Benefits
X-ORIGINAL-URL:https://mynewscorpbenefits.com
X-WR-CALDESC:Events for NewsCorp Benefits
REFRESH-INTERVAL;VALUE=DURATION:PT1H
X-Robots-Tag:noindex
X-PUBLISHED-TTL:PT1H
BEGIN:VTIMEZONE
TZID:America/New_York
BEGIN:DAYLIGHT
TZOFFSETFROM:-0500
TZOFFSETTO:-0400
TZNAME:EDT
DTSTART:20260308T070000
END:DAYLIGHT
BEGIN:STANDARD
TZOFFSETFROM:-0400
TZOFFSETTO:-0500
TZNAME:EST
DTSTART:20261101T060000
END:STANDARD
END:VTIMEZONE
BEGIN:VEVENT
DTSTART;TZID=America/New_York:20260310T130000
DTEND;TZID=America/New_York:20260310T140000
DTSTAMP:20260419T181701
CREATED:20251217T094923Z
LAST-MODIFIED:20251223T150631Z
UID:14710-1773147600-1773151200@mynewscorpbenefits.com
SUMMARY:Menstrual Health Myths\, PMS & Pain
DESCRIPTION:Confused by cycle syncing trends or tired of being told period pain is “normal”? Join Ovia’s Care Team as we separate fact from fiction\, explore what’s typical for PMS\, and highlight health conditions like endometriosis. Learn how to track your symptoms for better insights and conversations with your provider.
URL:https://mynewscorpbenefits.com/event/menstrual-health-myths-pms-pain/
LOCATION:Virtual
CATEGORIES:Webinar
END:VEVENT
END:VCALENDAR