BEGIN:VCALENDAR
VERSION:2.0
PRODID:-//NewsCorp Benefits - ECPv6.14.0//NONSGML v1.0//EN
CALSCALE:GREGORIAN
METHOD:PUBLISH
X-WR-CALNAME:NewsCorp Benefits
X-ORIGINAL-URL:https://mynewscorpbenefits.com
X-WR-CALDESC:Events for NewsCorp Benefits
REFRESH-INTERVAL;VALUE=DURATION:PT1H
X-Robots-Tag:noindex
X-PUBLISHED-TTL:PT1H
BEGIN:VTIMEZONE
TZID:America/New_York
BEGIN:DAYLIGHT
TZOFFSETFROM:-0500
TZOFFSETTO:-0400
TZNAME:EDT
DTSTART:20260308T070000
END:DAYLIGHT
BEGIN:STANDARD
TZOFFSETFROM:-0400
TZOFFSETTO:-0500
TZNAME:EST
DTSTART:20261101T060000
END:STANDARD
END:VTIMEZONE
BEGIN:VEVENT
DTSTART;TZID=America/New_York:20260311T130000
DTEND;TZID=America/New_York:20260311T140000
DTSTAMP:20260419T171138
CREATED:20251223T140220Z
LAST-MODIFIED:20251223T140220Z
UID:14724-1773234000-1773237600@mynewscorpbenefits.com
SUMMARY:Health Trends: Help or Hype?
DESCRIPTION:We’ve all been there: you find yourself scrolling through social media and you hear someone mention a “life-changing” supplement or health gadget. And it can be very tempting to take them at their word and try it for yourself. But with so many options out there\, how do you tell what’s legitimate new technology and what’s simply too good to be true? \nPresented by a Hinge Health expert physical therapist\, this event will discuss many of the latest health trends\, from weighted vests to vibration plates\, and which ones have scientific evidence to support their claims. \n3 things you will take away from this event: \n\nWhich health trends/gadgets are worth your time and money\nAlternatives that you might already have in your home\nSetting realistic expectations for results
URL:https://mynewscorpbenefits.com/event/health-trends-help-or-hype/
LOCATION:Virtual
CATEGORIES:Webinar
END:VEVENT
END:VCALENDAR