BEGIN:VCALENDAR
VERSION:2.0
PRODID:-//NewsCorp Benefits - ECPv6.14.0//NONSGML v1.0//EN
CALSCALE:GREGORIAN
METHOD:PUBLISH
X-WR-CALNAME:NewsCorp Benefits
X-ORIGINAL-URL:https://mynewscorpbenefits.com
X-WR-CALDESC:Events for NewsCorp Benefits
REFRESH-INTERVAL;VALUE=DURATION:PT1H
X-Robots-Tag:noindex
X-PUBLISHED-TTL:PT1H
BEGIN:VTIMEZONE
TZID:America/New_York
BEGIN:DAYLIGHT
TZOFFSETFROM:-0500
TZOFFSETTO:-0400
TZNAME:EDT
DTSTART:20260308T070000
END:DAYLIGHT
BEGIN:STANDARD
TZOFFSETFROM:-0400
TZOFFSETTO:-0500
TZNAME:EST
DTSTART:20261101T060000
END:STANDARD
END:VTIMEZONE
BEGIN:VEVENT
DTSTART;TZID=America/New_York:20260507T120000
DTEND;TZID=America/New_York:20260507T123000
DTSTAMP:20260419T201550
CREATED:20260112T202227Z
LAST-MODIFIED:20260112T202227Z
UID:14773-1778155200-1778157000@mynewscorpbenefits.com
SUMMARY:Live Meditation with Headspace: Navigating Burnout
DESCRIPTION:Gain a greater awareness of your body’s signals for stress and burnout. Join this live meditation to pause and learn practical tools to create healthy rhythms that restore\, instead of deplete.
URL:https://mynewscorpbenefits.com/event/live-meditation-with-headspace-navigating-burnout/
LOCATION:Virtual
CATEGORIES:Webinar
END:VEVENT
END:VCALENDAR