BEGIN:VCALENDAR
VERSION:2.0
PRODID:-//NewsCorp Benefits - ECPv6.14.0//NONSGML v1.0//EN
CALSCALE:GREGORIAN
METHOD:PUBLISH
X-WR-CALNAME:NewsCorp Benefits
X-ORIGINAL-URL:https://mynewscorpbenefits.com
X-WR-CALDESC:Events for NewsCorp Benefits
REFRESH-INTERVAL;VALUE=DURATION:PT1H
X-Robots-Tag:noindex
X-PUBLISHED-TTL:PT1H
BEGIN:VTIMEZONE
TZID:America/New_York
BEGIN:DAYLIGHT
TZOFFSETFROM:-0500
TZOFFSETTO:-0400
TZNAME:EDT
DTSTART:20260308T070000
END:DAYLIGHT
BEGIN:STANDARD
TZOFFSETFROM:-0400
TZOFFSETTO:-0500
TZNAME:EST
DTSTART:20261101T060000
END:STANDARD
END:VTIMEZONE
BEGIN:VEVENT
DTSTART;TZID=America/New_York:20260610T130000
DTEND;TZID=America/New_York:20260610T140000
DTSTAMP:20260420T001844
CREATED:20251223T140928Z
LAST-MODIFIED:20251223T140928Z
UID:14730-1781096400-1781100000@mynewscorpbenefits.com
SUMMARY:Ergonomics for Less Pain at Work and Home: Tips and Tricks from Hinge Health Physical Therapists
DESCRIPTION:Join us for “Ergonomics for Less Pain at Work and Home: Tips and Tricks from Hinge Health Physical Therapists”\, a free virtual event about…you. \nPresented by Hinge Health\, “Ergonomics for Less Pain at Work and Home: Tips and Tricks from Hinge Health Physical Therapists” will dive into the science of workplace setup and how you can be more comfortable at work. \n3 things you will take away: \n\nHow to set up your workspace if you sit all day\nHow to set up your workspace if you stand all day\nSimple\, gentle exercises you can do today to start reducing your pain
URL:https://mynewscorpbenefits.com/event/ergonomics-for-less-pain-at-work-and-home-tips-and-tricks-from-hinge-health-physical-therapists/
LOCATION:Virtual
CATEGORIES:Webinar
END:VEVENT
BEGIN:VEVENT
DTSTART;TZID=America/New_York:20260610T140000
DTEND;TZID=America/New_York:20260610T150000
DTSTAMP:20260420T001844
CREATED:20251216T085609Z
LAST-MODIFIED:20251223T150946Z
UID:14686-1781100000-1781103600@mynewscorpbenefits.com
SUMMARY:The different ways children play
DESCRIPTION:Imaginary play\, independent play\, guided play\, sensory play: what are they and why are they important? Learn the benefits and get ready to celebrate the International Day of Play on June 11.
URL:https://mynewscorpbenefits.com/event/the-different-ways-children-play/
LOCATION:Virtual
CATEGORIES:Webinar
END:VEVENT
END:VCALENDAR