BEGIN:VCALENDAR
VERSION:2.0
PRODID:-//NewsCorp Benefits - ECPv6.14.0//NONSGML v1.0//EN
CALSCALE:GREGORIAN
METHOD:PUBLISH
X-WR-CALNAME:NewsCorp Benefits
X-ORIGINAL-URL:https://mynewscorpbenefits.com
X-WR-CALDESC:Events for NewsCorp Benefits
REFRESH-INTERVAL;VALUE=DURATION:PT1H
X-Robots-Tag:noindex
X-PUBLISHED-TTL:PT1H
BEGIN:VTIMEZONE
TZID:America/New_York
BEGIN:DAYLIGHT
TZOFFSETFROM:-0500
TZOFFSETTO:-0400
TZNAME:EDT
DTSTART:20260308T070000
END:DAYLIGHT
BEGIN:STANDARD
TZOFFSETFROM:-0400
TZOFFSETTO:-0500
TZNAME:EST
DTSTART:20261101T060000
END:STANDARD
END:VTIMEZONE
BEGIN:VEVENT
DTSTART;TZID=America/New_York:20260617T120000
DTEND;TZID=America/New_York:20260617T130000
DTSTAMP:20260420T062016
CREATED:20251205T141758Z
LAST-MODIFIED:20251223T150939Z
UID:14646-1781697600-1781701200@mynewscorpbenefits.com
SUMMARY:A Care Guide for Dementia: Strategies\, Support\, and Self-Care
DESCRIPTION:Wellthy care experts will share practical advice to navigate the stages of dementia\, support your loved one with dignity\, and care for yourself throughout the journey.
URL:https://mynewscorpbenefits.com/event/a-care-guide-for-dementia-strategies-support-and-self-care/
LOCATION:Virtual
CATEGORIES:Webinar
END:VEVENT
END:VCALENDAR